BEGIN:VCALENDAR
VERSION:2.0
PRODID:-//Share, Reuse, Repair Hub - ECPv6.15.20//NONSGML v1.0//EN
CALSCALE:GREGORIAN
METHOD:PUBLISH
X-WR-CALNAME:Share, Reuse, Repair Hub
X-ORIGINAL-URL:https://sharereuserepairhub.ca
X-WR-CALDESC:Events for Share, Reuse, Repair Hub
REFRESH-INTERVAL;VALUE=DURATION:PT1H
X-Robots-Tag:noindex
X-PUBLISHED-TTL:PT1H
BEGIN:VTIMEZONE
TZID:America/Halifax
BEGIN:DAYLIGHT
TZOFFSETFROM:-0400
TZOFFSETTO:-0300
TZNAME:ADT
DTSTART:20240310T060000
END:DAYLIGHT
BEGIN:STANDARD
TZOFFSETFROM:-0300
TZOFFSETTO:-0400
TZNAME:AST
DTSTART:20241103T050000
END:STANDARD
BEGIN:DAYLIGHT
TZOFFSETFROM:-0400
TZOFFSETTO:-0300
TZNAME:ADT
DTSTART:20250309T060000
END:DAYLIGHT
BEGIN:STANDARD
TZOFFSETFROM:-0300
TZOFFSETTO:-0400
TZNAME:AST
DTSTART:20251102T050000
END:STANDARD
BEGIN:DAYLIGHT
TZOFFSETFROM:-0400
TZOFFSETTO:-0300
TZNAME:ADT
DTSTART:20260308T060000
END:DAYLIGHT
BEGIN:STANDARD
TZOFFSETFROM:-0300
TZOFFSETTO:-0400
TZNAME:AST
DTSTART:20261101T050000
END:STANDARD
END:VTIMEZONE
BEGIN:VEVENT
DTSTART;TZID=America/Halifax:20250812T180000
DTEND;TZID=America/Halifax:20250812T200000
DTSTAMP:20260420T062449
CREATED:20250702T150223Z
LAST-MODIFIED:20250702T150426Z
UID:2835-1755021600-1755028800@sharereuserepairhub.ca
SUMMARY:Brampton: Free Beginner Sewing Classes August 12
DESCRIPTION:Learn Sewing Machine Basics to make reusable period pads with Help A Girl Out. \n\n\n\n\n\n\nIn this workshop presented by Help A Girl Out\, you’ll learn sewing machine basics to make reusable period pads and how reusable menstrual products help end period poverty and help the environment. All materials will be provided. Registration required. \nPlease note: All participants must complete a makerspace waiver before the start of the program. \nHAGO is an anti-poverty organization based in Brampton Ontario\, that aims to eliminate period poverty in Canada and developing countries. They have distributed hundreds of thousands of menstrual products since 2018. They serve individuals and centers across Canada\, the Caribbean\, and a few African countries. \nPeriod poverty is a worldwide health crisis that affects mental health\, reproductive health\, self-esteem\, and confidence. Reusable pads not only reduce waste to landfills but also ensure that individuals have consistent access to period products for years at a time\, eliminating period poverty sustainably. \nClick here for details.
URL:https://sharereuserepairhub.ca/event-calendar/brampton-beginner-sewing-aug-12/
LOCATION:Mount Pleasant Village: Brampton Library\, 100 Commuter Drive\, Brampton\, Ontario\, L7A 0G2\, Canada
CATEGORIES:Crafts
ATTACH;FMTTYPE=image/png:https://sharereuserepairhub.ca/wp-content/uploads/2025/07/Sewing-Workshop.png
END:VEVENT
BEGIN:VEVENT
DTSTART;TZID=America/Halifax:20250812T180000
DTEND;TZID=America/Halifax:20250812T200000
DTSTAMP:20260420T062449
CREATED:20250702T150820Z
LAST-MODIFIED:20250702T150820Z
UID:2840-1755021600-1755028800@sharereuserepairhub.ca
SUMMARY:Brampton: Free Beginner Sewing Classes August 19
DESCRIPTION:Learn Sewing Machine Basics to make reusable period pads with Help A Girl Out. \n\n\n\n\n\n\nIn this workshop presented by Help A Girl Out\, you’ll learn sewing machine basics to make reusable period pads and how reusable menstrual products help end period poverty and help the environment. All materials will be provided. Registration required. \nPlease note: All participants must complete a makerspace waiver before the start of the program. \nHAGO is an anti-poverty organization based in Brampton Ontario\, that aims to eliminate period poverty in Canada and developing countries. They have distributed hundreds of thousands of menstrual products since 2018. They serve individuals and centers across Canada\, the Caribbean\, and a few African countries. \nPeriod poverty is a worldwide health crisis that affects mental health\, reproductive health\, self-esteem\, and confidence. Reusable pads not only reduce waste to landfills but also ensure that individuals have consistent access to period products for years at a time\, eliminating period poverty sustainably. \nClick here for details.
URL:https://sharereuserepairhub.ca/event-calendar/brampton-sewing-classes-aug-19/
LOCATION:Mount Pleasant Village: Brampton Library\, 100 Commuter Drive\, Brampton\, Ontario\, L7A 0G2\, Canada
CATEGORIES:Crafts
ATTACH;FMTTYPE=image/png:https://sharereuserepairhub.ca/wp-content/uploads/2025/07/Sewing-Workshop.png
END:VEVENT
BEGIN:VEVENT
DTSTART;TZID=America/Halifax:20250812T180000
DTEND;TZID=America/Halifax:20250812T200000
DTSTAMP:20260420T062449
CREATED:20250702T150927Z
LAST-MODIFIED:20250702T150927Z
UID:2843-1755021600-1755028800@sharereuserepairhub.ca
SUMMARY:Brampton: Free Beginner Sewing Classes August 26
DESCRIPTION:Learn Sewing Machine Basics to make reusable period pads with Help A Girl Out. \n\n\n\n\n\n\nIn this workshop presented by Help A Girl Out\, you’ll learn sewing machine basics to make reusable period pads and how reusable menstrual products help end period poverty and help the environment. All materials will be provided. Registration required. \nPlease note: All participants must complete a makerspace waiver before the start of the program. \nHAGO is an anti-poverty organization based in Brampton Ontario\, that aims to eliminate period poverty in Canada and developing countries. They have distributed hundreds of thousands of menstrual products since 2018. They serve individuals and centers across Canada\, the Caribbean\, and a few African countries. \nPeriod poverty is a worldwide health crisis that affects mental health\, reproductive health\, self-esteem\, and confidence. Reusable pads not only reduce waste to landfills but also ensure that individuals have consistent access to period products for years at a time\, eliminating period poverty sustainably. \nClick here for details.
URL:https://sharereuserepairhub.ca/event-calendar/brampton-sewing-classes-aug-26/
LOCATION:Mount Pleasant Village: Brampton Library\, 100 Commuter Drive\, Brampton\, Ontario\, L7A 0G2\, Canada
CATEGORIES:Crafts
ATTACH;FMTTYPE=image/png:https://sharereuserepairhub.ca/wp-content/uploads/2025/07/Sewing-Workshop.png
END:VEVENT
BEGIN:VEVENT
DTSTART;TZID=America/Halifax:20250814T190000
DTEND;TZID=America/Halifax:20250814T203000
DTSTAMP:20260420T062449
CREATED:20250714T133046Z
LAST-MODIFIED:20250714T133046Z
UID:2864-1755198000-1755203400@sharereuserepairhub.ca
SUMMARY:Aurora: Intro to Sewing
DESCRIPTION:When: Thursday\, August 14\, 2025\, 7:00 PM – 8:30 PM\nWhere: Aurora Public Library\nLanguage: English \nWhether you’ve never touched a needle or thread before or you’re looking to rekindle your lost passion for creating\, this class is the perfect starting point for your sewing adventures. 13+
URL:https://sharereuserepairhub.ca/event-calendar/aurora-intro-to-sewing/
LOCATION:Aurora Public Library\, 15145 Yonge Street\, Aurora\, Ontario\, L4G 1M1\, Canada
CATEGORIES:Crafts,York Region
ATTACH;FMTTYPE=image/png:https://sharereuserepairhub.ca/wp-content/uploads/2025/07/Introduction-to-Sewing.png
END:VEVENT
END:VCALENDAR