BEGIN:VCALENDAR
VERSION:2.0
PRODID:-//Share, Reuse, Repair Hub - ECPv6.15.20//NONSGML v1.0//EN
CALSCALE:GREGORIAN
METHOD:PUBLISH
X-ORIGINAL-URL:https://sharereuserepairhub.ca
X-WR-CALDESC:Events for Share, Reuse, Repair Hub
REFRESH-INTERVAL;VALUE=DURATION:PT1H
X-Robots-Tag:noindex
X-PUBLISHED-TTL:PT1H
BEGIN:VTIMEZONE
TZID:America/Halifax
BEGIN:DAYLIGHT
TZOFFSETFROM:-0400
TZOFFSETTO:-0300
TZNAME:ADT
DTSTART:20240310T060000
END:DAYLIGHT
BEGIN:STANDARD
TZOFFSETFROM:-0300
TZOFFSETTO:-0400
TZNAME:AST
DTSTART:20241103T050000
END:STANDARD
BEGIN:DAYLIGHT
TZOFFSETFROM:-0400
TZOFFSETTO:-0300
TZNAME:ADT
DTSTART:20250309T060000
END:DAYLIGHT
BEGIN:STANDARD
TZOFFSETFROM:-0300
TZOFFSETTO:-0400
TZNAME:AST
DTSTART:20251102T050000
END:STANDARD
BEGIN:DAYLIGHT
TZOFFSETFROM:-0400
TZOFFSETTO:-0300
TZNAME:ADT
DTSTART:20260308T060000
END:DAYLIGHT
BEGIN:STANDARD
TZOFFSETFROM:-0300
TZOFFSETTO:-0400
TZNAME:AST
DTSTART:20261101T050000
END:STANDARD
END:VTIMEZONE
BEGIN:VEVENT
DTSTART;TZID=America/Halifax:20250814T190000
DTEND;TZID=America/Halifax:20250814T203000
DTSTAMP:20260420T091842
CREATED:20250714T133046Z
LAST-MODIFIED:20250714T133046Z
UID:2864-1755198000-1755203400@sharereuserepairhub.ca
SUMMARY:Aurora: Intro to Sewing
DESCRIPTION:When: Thursday\, August 14\, 2025\, 7:00 PM – 8:30 PM\nWhere: Aurora Public Library\nLanguage: English \nWhether you’ve never touched a needle or thread before or you’re looking to rekindle your lost passion for creating\, this class is the perfect starting point for your sewing adventures. 13+
URL:https://sharereuserepairhub.ca/event-calendar/aurora-intro-to-sewing/
LOCATION:Aurora Public Library\, 15145 Yonge Street\, Aurora\, Ontario\, L4G 1M1\, Canada
CATEGORIES:Crafts,York Region
ATTACH;FMTTYPE=image/png:https://sharereuserepairhub.ca/wp-content/uploads/2025/07/Introduction-to-Sewing.png
END:VEVENT
END:VCALENDAR