BEGIN:VCALENDAR
VERSION:2.0
PRODID:-//Share, Reuse, Repair Hub - ECPv6.15.20//NONSGML v1.0//EN
CALSCALE:GREGORIAN
METHOD:PUBLISH
X-ORIGINAL-URL:https://sharereuserepairhub.ca
X-WR-CALDESC:Events for Share, Reuse, Repair Hub
REFRESH-INTERVAL;VALUE=DURATION:PT1H
X-Robots-Tag:noindex
X-PUBLISHED-TTL:PT1H
BEGIN:VTIMEZONE
TZID:UTC
BEGIN:STANDARD
TZOFFSETFROM:+0000
TZOFFSETTO:+0000
TZNAME:UTC
DTSTART:20240101T000000
END:STANDARD
END:VTIMEZONE
BEGIN:VEVENT
DTSTART;TZID=UTC:20250920T120000
DTEND;TZID=UTC:20250920T160000
DTSTAMP:20260420T042458
CREATED:20250918T165510Z
LAST-MODIFIED:20250918T165510Z
UID:3017-1758369600-1758384000@sharereuserepairhub.ca
SUMMARY:Meet the Magic Yarn
DESCRIPTION:Help make princess and pirate wigs that are donated to children with hair loss. Cut yarn for hair and attach to beanies. Plus\, learn about the impact you can make in the lives of children through the GTA Magic Yarn Team. \nVisit our Culture Days webpage for the latest news and information about the event.
URL:https://sharereuserepairhub.ca/event-calendar/meet-the-magic-yarn/
LOCATION:Richmond Hill Public Library – Central Branch\, 1 Atkinson Street\, Richmond Hill\, Ontario\, L4C 0H5\, Canada
CATEGORIES:Crafts,Volunteering,York Region
ATTACH;FMTTYPE=image/png:https://sharereuserepairhub.ca/wp-content/uploads/2025/09/CultureDaysBanner.png
END:VEVENT
END:VCALENDAR