BEGIN:VCALENDAR
VERSION:2.0
PRODID:-//Share, Reuse, Repair Hub - ECPv6.15.20//NONSGML v1.0//EN
CALSCALE:GREGORIAN
METHOD:PUBLISH
X-WR-CALNAME:Share, Reuse, Repair Hub
X-ORIGINAL-URL:https://sharereuserepairhub.ca
X-WR-CALDESC:Events for Share, Reuse, Repair Hub
REFRESH-INTERVAL;VALUE=DURATION:PT1H
X-Robots-Tag:noindex
X-PUBLISHED-TTL:PT1H
BEGIN:VTIMEZONE
TZID:UTC
BEGIN:STANDARD
TZOFFSETFROM:+0000
TZOFFSETTO:+0000
TZNAME:UTC
DTSTART:20240101T000000
END:STANDARD
END:VTIMEZONE
BEGIN:VEVENT
DTSTART;TZID=UTC:20250927T143000
DTEND;TZID=UTC:20250927T163000
DTSTAMP:20260420T042353
CREATED:20250918T163559Z
LAST-MODIFIED:20250918T163643Z
UID:3004-1758983400-1758990600@sharereuserepairhub.ca
SUMMARY:Recycled Crafts
DESCRIPTION:Drop in and learn how to turn trash into treasure. Use our collection of recycled material or bring your own.
URL:https://sharereuserepairhub.ca/event-calendar/recycled-crafts/
LOCATION:Aurora Public Library\, 15145 Yonge Street\, Aurora\, Ontario\, L4G 1M1\, Canada
CATEGORIES:Crafts,Cycling,York Region
ATTACH;FMTTYPE=image/jpeg:https://sharereuserepairhub.ca/wp-content/uploads/2025/09/JocelynNEWEventImagesWide22.jpg
END:VEVENT
END:VCALENDAR