BEGIN:VCALENDAR
VERSION:2.0
PRODID:-//Share, Reuse, Repair Hub - ECPv6.15.20//NONSGML v1.0//EN
CALSCALE:GREGORIAN
METHOD:PUBLISH
X-WR-CALNAME:Share, Reuse, Repair Hub
X-ORIGINAL-URL:https://sharereuserepairhub.ca
X-WR-CALDESC:Events for Share, Reuse, Repair Hub
REFRESH-INTERVAL;VALUE=DURATION:PT1H
X-Robots-Tag:noindex
X-PUBLISHED-TTL:PT1H
BEGIN:VTIMEZONE
TZID:UTC
BEGIN:STANDARD
TZOFFSETFROM:+0000
TZOFFSETTO:+0000
TZNAME:UTC
DTSTART:20240101T000000
END:STANDARD
END:VTIMEZONE
BEGIN:VEVENT
DTSTART;TZID=UTC:20251210T180000
DTEND;TZID=UTC:20251210T190000
DTSTAMP:20260419T210045
CREATED:20251120T165021Z
LAST-MODIFIED:20251202T200612Z
UID:3204-1765389600-1765393200@sharereuserepairhub.ca
SUMMARY:Holiday Crafts with bike tubes (Mississauga)
DESCRIPTION:Holiday crafts with bike tubes from 6:00 – 7:00 p.m. on Wednesday\, December 3 & 10! Materials are provided. \nRegister by emailing \nSheridanBikeHub@sheridancollege.ca \nspace is limited.
URL:https://sharereuserepairhub.ca/event-calendar/holiday-crafts-with-bike-tubes-2/
LOCATION:SHERIDAN COLLEGE\, 4180 Duke of York Blvd\, Mississauga\, Ontario\, L5B 3W3\, Canada
CATEGORIES:Crafts,Peel Region
ATTACH;FMTTYPE=image/jpeg:https://sharereuserepairhub.ca/wp-content/uploads/2025/10/Sheridan-Bike-Hub.jpeg
END:VEVENT
END:VCALENDAR