BEGIN:VCALENDAR
VERSION:2.0
PRODID:-//Share, Reuse, Repair Hub - ECPv6.15.20//NONSGML v1.0//EN
CALSCALE:GREGORIAN
METHOD:PUBLISH
X-ORIGINAL-URL:https://sharereuserepairhub.ca
X-WR-CALDESC:Events for Share, Reuse, Repair Hub
REFRESH-INTERVAL;VALUE=DURATION:PT1H
X-Robots-Tag:noindex
X-PUBLISHED-TTL:PT1H
BEGIN:VTIMEZONE
TZID:UTC
BEGIN:STANDARD
TZOFFSETFROM:+0000
TZOFFSETTO:+0000
TZNAME:UTC
DTSTART:20240101T000000
END:STANDARD
END:VTIMEZONE
BEGIN:VTIMEZONE
TZID:America/Toronto
BEGIN:DAYLIGHT
TZOFFSETFROM:-0500
TZOFFSETTO:-0400
TZNAME:EDT
DTSTART:20240310T070000
END:DAYLIGHT
BEGIN:STANDARD
TZOFFSETFROM:-0400
TZOFFSETTO:-0500
TZNAME:EST
DTSTART:20241103T060000
END:STANDARD
BEGIN:DAYLIGHT
TZOFFSETFROM:-0500
TZOFFSETTO:-0400
TZNAME:EDT
DTSTART:20250309T070000
END:DAYLIGHT
BEGIN:STANDARD
TZOFFSETFROM:-0400
TZOFFSETTO:-0500
TZNAME:EST
DTSTART:20251102T060000
END:STANDARD
BEGIN:DAYLIGHT
TZOFFSETFROM:-0500
TZOFFSETTO:-0400
TZNAME:EDT
DTSTART:20260308T070000
END:DAYLIGHT
BEGIN:STANDARD
TZOFFSETFROM:-0400
TZOFFSETTO:-0500
TZNAME:EST
DTSTART:20261101T060000
END:STANDARD
BEGIN:DAYLIGHT
TZOFFSETFROM:-0500
TZOFFSETTO:-0400
TZNAME:EDT
DTSTART:20270314T070000
END:DAYLIGHT
BEGIN:STANDARD
TZOFFSETFROM:-0400
TZOFFSETTO:-0500
TZNAME:EST
DTSTART:20271107T060000
END:STANDARD
END:VTIMEZONE
BEGIN:VEVENT
DTSTART;TZID=UTC:20251118T180000
DTEND;TZID=UTC:20251118T200000
DTSTAMP:20260420T105101
CREATED:20250918T172824Z
LAST-MODIFIED:20251113T203358Z
UID:3046-1763488800-1763496000@sharereuserepairhub.ca
SUMMARY:Culture Days: Learn to Sew Reusable Bowl Covers (Caledon)
DESCRIPTION:Join us and learn to sew your very own reusable bowl cover! This is a beginner project where you will learn to sew on a curve and make use of elastic in your sewing projects\, as well as general sewing machine basics. \nMaterials to create 1 bowl cover will be provided. \nRegistration is required.
URL:https://sharereuserepairhub.ca/event-calendar/culture-days-learn-to-sew-reusable-bowl-covers-3/
LOCATION:Caledon Public Library Albion Bolton Branch\, 150 Queens Street South\, Caledon\, Ontario\, Canada
CATEGORIES:Crafts,Peel Region
ATTACH;FMTTYPE=image/png:https://sharereuserepairhub.ca/wp-content/uploads/2025/07/Peel-Region-Stacked.png
END:VEVENT
BEGIN:VEVENT
DTSTART;TZID=UTC:20251121T103000
DTEND;TZID=UTC:20251121T113000
DTSTAMP:20260420T105101
CREATED:20251030T180717Z
LAST-MODIFIED:20251113T203424Z
UID:3157-1763721000-1763724600@sharereuserepairhub.ca
SUMMARY:P.A. Day Activities | Egg Carton Fairies (Markham)
DESCRIPTION:Drop by for a whimsical craft session where we’ll be making Egg Carton Fairies! A scavenger hunt will also be available throughout the day. 
URL:https://sharereuserepairhub.ca/event-calendar/p-a-day-activities-egg-carton-fairies/
LOCATION:Markham Public Library\, 7600 Kennedy Road\, Markham\, Ontario\, L3R 9S5\, Canada
CATEGORIES:Crafts,York Region
ATTACH;FMTTYPE=image/png:https://sharereuserepairhub.ca/wp-content/uploads/2025/10/26.png
END:VEVENT
BEGIN:VEVENT
DTSTART;TZID=UTC:20251126T180000
DTEND;TZID=UTC:20251126T203000
DTSTAMP:20260420T105101
CREATED:20251030T180927Z
LAST-MODIFIED:20251113T204832Z
UID:3160-1764180000-1764189000@sharereuserepairhub.ca
SUMMARY:Sewing 101: Reusable Pads (Markham)
DESCRIPTION:Learn a new skill and help tackle period poverty! Reusable menstrual pads are a sustainable solution to the high cost of disposable products\, and are the perfect project for those who are new to sewing. This workshop will familiarize participants with sewing machines\, teach them basic techniques\, and guide them as they make a reusable menstrual pad from scratch in support of Help A Girl Out. \nAll tools and materials will be provided. \nThis program is designed for those ages 13 and up.
URL:https://sharereuserepairhub.ca/event-calendar/sewing-101-reusable-pads/
LOCATION:Markham Public Library\, 7600 Kennedy Road\, Markham\, Ontario\, L3R 9S5\, Canada
CATEGORIES:Crafts,Cycling,York Region
ATTACH;FMTTYPE=image/jpeg:https://sharereuserepairhub.ca/wp-content/uploads/2025/09/Couture_Help_girl_out-10.jpg
END:VEVENT
BEGIN:VEVENT
DTSTART;TZID=UTC:20251127T130000
DTEND;TZID=UTC:20251127T150000
DTSTAMP:20260420T105101
CREATED:20250918T172910Z
LAST-MODIFIED:20251113T204855Z
UID:3048-1764248400-1764255600@sharereuserepairhub.ca
SUMMARY:Culture Days: Learn to Sew Reusable Bowl Covers (Caledon)
DESCRIPTION:Join us and learn to sew your very own reusable bowl cover! This is a beginner project where you will learn to sew on a curve and make use of elastic in your sewing projects\, as well as general sewing machine basics. \nMaterials to create 1 bowl cover will be provided. \nRegistration is required.
URL:https://sharereuserepairhub.ca/event-calendar/culture-days-learn-to-sew-reusable-bowl-covers-4/
LOCATION:Caledon Public Library Albion Bolton Branch\, 150 Queens Street South\, Caledon\, Ontario\, Canada
CATEGORIES:Crafts,Peel Region
ATTACH;FMTTYPE=image/png:https://sharereuserepairhub.ca/wp-content/uploads/2025/07/Peel-Region-Stacked.png
END:VEVENT
BEGIN:VEVENT
DTSTART;TZID=UTC:20251203T180000
DTEND;TZID=UTC:20251203T190000
DTSTAMP:20260420T105101
CREATED:20251120T164953Z
LAST-MODIFIED:20251202T200619Z
UID:3202-1764784800-1764788400@sharereuserepairhub.ca
SUMMARY:Holiday Crafts with bike tubes (Mississauga)
DESCRIPTION:Holiday crafts with bike tubes from 6:00 – 7:00 p.m. on Wednesday\, December 3 & 10! Materials are provided. \nRegister by emailing \nSheridanBikeHub@sheridancollege.ca \nspace is limited.
URL:https://sharereuserepairhub.ca/event-calendar/holiday-crafts-with-bike-tubes/
LOCATION:SHERIDAN COLLEGE\, 4180 Duke of York Blvd\, Mississauga\, Ontario\, L5B 3W3\, Canada
CATEGORIES:Crafts,Peel Region
ATTACH;FMTTYPE=image/jpeg:https://sharereuserepairhub.ca/wp-content/uploads/2025/10/Sheridan-Bike-Hub.jpeg
END:VEVENT
BEGIN:VEVENT
DTSTART;TZID=UTC:20251206T100000
DTEND;TZID=UTC:20251206T120000
DTSTAMP:20260420T105101
CREATED:20251030T182629Z
LAST-MODIFIED:20251113T201128Z
UID:3169-1765015200-1765022400@sharereuserepairhub.ca
SUMMARY:Seasonal Cedar: A Sustainable Ornament Workshop (Whitchurch-Stouffville)
DESCRIPTION:Celebrate the season with a hands-on holiday experience!
URL:https://sharereuserepairhub.ca/event-calendar/seasonal-cedar-a-sustainable-ornament-workshop/
LOCATION:The Whitchurch-Stouffville Museum & Community Centre\, 14732 Woodbine Avenue\, Whitchurch-Stouffville\, Ontario\, L4A 2K9
CATEGORIES:Crafts,York Region
ATTACH;FMTTYPE=image/jpeg:https://sharereuserepairhub.ca/wp-content/uploads/2025/10/https___cdn.evbuc_.com_images_1098897633_52764651062_1_original.jpeg
END:VEVENT
BEGIN:VEVENT
DTSTART;TZID=UTC:20251210T180000
DTEND;TZID=UTC:20251210T190000
DTSTAMP:20260420T105101
CREATED:20251120T165021Z
LAST-MODIFIED:20251202T200612Z
UID:3204-1765389600-1765393200@sharereuserepairhub.ca
SUMMARY:Holiday Crafts with bike tubes (Mississauga)
DESCRIPTION:Holiday crafts with bike tubes from 6:00 – 7:00 p.m. on Wednesday\, December 3 & 10! Materials are provided. \nRegister by emailing \nSheridanBikeHub@sheridancollege.ca \nspace is limited.
URL:https://sharereuserepairhub.ca/event-calendar/holiday-crafts-with-bike-tubes-2/
LOCATION:SHERIDAN COLLEGE\, 4180 Duke of York Blvd\, Mississauga\, Ontario\, L5B 3W3\, Canada
CATEGORIES:Crafts,Peel Region
ATTACH;FMTTYPE=image/jpeg:https://sharereuserepairhub.ca/wp-content/uploads/2025/10/Sheridan-Bike-Hub.jpeg
END:VEVENT
BEGIN:VEVENT
DTSTART;TZID=America/Toronto:20251227T110000
DTEND;TZID=America/Toronto:20251227T120000
DTSTAMP:20260420T105101
CREATED:20251202T203838Z
LAST-MODIFIED:20251202T203838Z
UID:3222-1766833200-1766836800@sharereuserepairhub.ca
SUMMARY:Leftover Crafts (Stouffville)
DESCRIPTION:Come use up our leftover crafts from the past year. What will your imagination help you create? Join us to find out! \nQuantities are limited.
URL:https://sharereuserepairhub.ca/event-calendar/leftover-crafts-stouffville/
LOCATION:Stouffville Library – Children’s Room A\, 2 Park Drive\, Stouffville\, Ontario\, L4A 4K1\, Canada
CATEGORIES:Crafts,York Region
ATTACH;FMTTYPE=image/png:https://sharereuserepairhub.ca/wp-content/uploads/2025/12/crafts.png
END:VEVENT
BEGIN:VEVENT
DTSTART;TZID=America/Toronto:20260318T190000
DTEND;TZID=America/Toronto:20260318T203000
DTSTAMP:20260420T105101
CREATED:20260313T165821Z
LAST-MODIFIED:20260313T165821Z
UID:3308-1773860400-1773865800@sharereuserepairhub.ca
SUMMARY:Junk Journaling for Beginners: A Creative Self-Care Workshop (Mississauga)
DESCRIPTION:Come journal with us using recycled materials! \n\n\n\n\nIn collaboration with the Digital Sexual Violence Support Center\, Heart Comonos invites you to a creative self-care workshop of “Junk Journaling.” While using recycled materials\, fabrics and collage techniques\, the participants will be invited to reflect on their boundaries\, coping mechanisms\, and emotional bandwidth. \nLearning goals: \n\nExplore self-care practices that welcome participants’ to explore their relationship with themselves and others.\nIdentify the coping mechanisms and habits that we may want to continue\, adjust or stop\nArticulate and express our wants\, needs and challenges around self-care\nLeave the workshop with a physical outline that they can use for future journaling sessions or conversations with dedicated service providers (e.g. therapist\, social worker\, etc.)\n\nGroup Guidelines \n\nUplift and encourage your peers\nSharing your pieces with the room is optional\nUse everyone’s preferred pronouns\nPlease use a name tag\nNo judgements\, critiques or advice giving\nTailor the prompts and responses to your needs\nOnly share what feels comfortable\n\nDisclaimer: This workshop is self-care oriented and will not entail any therapeutic or medical advice. We strongly encourage participants to consult their dedicated service provider (e.g. social worker\, counsellor\, therapist etc.) for professional support if needed. \nAbout our Facilitator\, Natasha Dixon \n“My name’s Natasha Dixon and I’m the Founder and Executive Director of The Digital Sexual Violence Support Centre (DSVSC)\, which is a Canadian non-profit that provides nation-wide support to adults who’ve experienced online forms of sexual violence. Our primary activities include peer support\, survivor-centered research\, community outreach and workshops. \nWhat we (The DSVSC) bring to the community is a survivor-led praxis that centers lived experiences of online sexual violence and an understanding on how to apply holistic wellness methods\, to help process and heal from sexual trauma. More specifically\, we are looking to welcome and invite the peers of individuals who’ve experienced online sexual violence to reflect on their approaches to holistic wellness\, within a communal environment.”
URL:https://sharereuserepairhub.ca/event-calendar/junk-journaling-for-beginners-a-creative-self-care-workshop-mississauga/
LOCATION:Royal Canadian Legion Branch 582\, 456 Hensall Circle\, Mississauga\, Ontario\, L5A 1X7\, Canada
CATEGORIES:Crafts,Skills workshop,Waste reduction event
ATTACH;FMTTYPE=image/jpeg:https://sharereuserepairhub.ca/wp-content/uploads/2026/03/Junk-Journaling-Event.jpeg
END:VEVENT
END:VCALENDAR