BEGIN:VCALENDAR
VERSION:2.0
PRODID:-//Share, Reuse, Repair Hub - ECPv6.15.20//NONSGML v1.0//EN
CALSCALE:GREGORIAN
METHOD:PUBLISH
X-WR-CALNAME:Share, Reuse, Repair Hub
X-ORIGINAL-URL:https://sharereuserepairhub.ca
X-WR-CALDESC:Events for Share, Reuse, Repair Hub
REFRESH-INTERVAL;VALUE=DURATION:PT1H
X-Robots-Tag:noindex
X-PUBLISHED-TTL:PT1H
BEGIN:VTIMEZONE
TZID:America/Halifax
BEGIN:DAYLIGHT
TZOFFSETFROM:-0400
TZOFFSETTO:-0300
TZNAME:ADT
DTSTART:20240310T060000
END:DAYLIGHT
BEGIN:STANDARD
TZOFFSETFROM:-0300
TZOFFSETTO:-0400
TZNAME:AST
DTSTART:20241103T050000
END:STANDARD
BEGIN:DAYLIGHT
TZOFFSETFROM:-0400
TZOFFSETTO:-0300
TZNAME:ADT
DTSTART:20250309T060000
END:DAYLIGHT
BEGIN:STANDARD
TZOFFSETFROM:-0300
TZOFFSETTO:-0400
TZNAME:AST
DTSTART:20251102T050000
END:STANDARD
BEGIN:DAYLIGHT
TZOFFSETFROM:-0400
TZOFFSETTO:-0300
TZNAME:ADT
DTSTART:20260308T060000
END:DAYLIGHT
BEGIN:STANDARD
TZOFFSETFROM:-0300
TZOFFSETTO:-0400
TZNAME:AST
DTSTART:20261101T050000
END:STANDARD
END:VTIMEZONE
BEGIN:VEVENT
DTSTART;VALUE=DATE:20250726
DTEND;VALUE=DATE:20250727
DTSTAMP:20260419T162342
CREATED:20250623T181851Z
LAST-MODIFIED:20250623T181851Z
UID:2814-1753488000-1753574399@sharereuserepairhub.ca
SUMMARY:Richmond Hill: Workshop: Reconstructing Garments\, Reimagining the Body (For Adults)
DESCRIPTION:This program is for adults. Starts on Sat\, Jul 26\, 2025 11:00 AM EDT. \nLed by Faseeh Saleem\, Ph.D. in Artistic Design Research\, this workshop explores storytelling through garment deconstruction\, sustainability\, and embroidery. \nBring a garment of your choice and learn how to convert it into a wearable art piece by experimenting with techniques such as visible mending\, patchwork\, and zero-waste stitching. \nPlease note: Materials provided\, but please bring a garment for deconstruction\, and feel free to bring your hand sewing kit if you have one. \nCost: $20\nProgram location: Central Branch \nIf this fee creates a barrier for participation please contact programming@rhpl.ca \nFor more details about the event and to register\, visit eventbrite.ca here.
URL:https://sharereuserepairhub.ca/event-calendar/richmond-hill-reconstructing-garments/
LOCATION:Richmond Hill Public Library\, 1 Atkinson Street\, Richmond Hill\, Ontario\, L4C 0H5\, Canada
CATEGORIES:Crafts,York Region
END:VEVENT
BEGIN:VEVENT
DTSTART;TZID=America/Halifax:20250725T103000
DTEND;TZID=America/Halifax:20250725T113000
DTSTAMP:20260419T162342
CREATED:20250714T132455Z
LAST-MODIFIED:20250714T132455Z
UID:2859-1753439400-1753443000@sharereuserepairhub.ca
SUMMARY:Mount Albert: Tie Dye Party
DESCRIPTION:Branch : Mount Albert\nDate: Jul 25\, 2025\nTime: 10:30 AM – 11:30 AM\nCost: Free\nLocation: \n19300 Centre St\, Mount Albert\, ON\n\n\nJoin us for some tie-dye fun! We’ll get creative and colourful while making tie-dyed shirts. Registration in branch required. Please bring your own shirt or item you would like to tie dye. All ages\, cost $2\, register in branch.\n\nClick here for full details from East Gwillimbury Public Library.
URL:https://sharereuserepairhub.ca/event-calendar/mount-albert-tie-dye-party/
LOCATION:19300 Centre St.\, 19300 Centre St.\, Mount Albert\, Ontario\, L0G 1M0\, Canada
CATEGORIES:Crafts,York Region
ATTACH;FMTTYPE=image/png:https://sharereuserepairhub.ca/wp-content/uploads/2025/07/Tie-dye-feat-image.png
END:VEVENT
BEGIN:VEVENT
DTSTART;TZID=America/Halifax:20250722T180000
DTEND;TZID=America/Halifax:20250722T200000
DTSTAMP:20260419T162342
CREATED:20250702T145731Z
LAST-MODIFIED:20250702T145731Z
UID:2828-1753207200-1753214400@sharereuserepairhub.ca
SUMMARY:Brampton: Free Beginner Sewing Classes July 22nd
DESCRIPTION:Learn Sewing Machine Basics to make reusable period pads with Help A Girl Out. \n\n\n\n\n\n\nIn this workshop presented by Help A Girl Out\, you’ll learn sewing machine basics to make reusable period pads and how reusable menstrual products help end period poverty and help the environment. All materials will be provided. Registration required. \nPlease note: All participants must complete a makerspace waiver before the start of the program. \nHAGO is an anti-poverty organization based in Brampton Ontario\, that aims to eliminate period poverty in Canada and developing countries. They have distributed hundreds of thousands of menstrual products since 2018. They serve individuals and centers across Canada\, the Caribbean\, and a few African countries. \nPeriod poverty is a worldwide health crisis that affects mental health\, reproductive health\, self-esteem\, and confidence. Reusable pads not only reduce waste to landfills but also ensure that individuals have consistent access to period products for years at a time\, eliminating period poverty sustainably. \nClick here for details.
URL:https://sharereuserepairhub.ca/event-calendar/brampton-sewing-classes-july-22/
LOCATION:Ontario
CATEGORIES:Crafts
ATTACH;FMTTYPE=image/png:https://sharereuserepairhub.ca/wp-content/uploads/2025/07/Sewing-Workshop.png
END:VEVENT
BEGIN:VEVENT
DTSTART;TZID=America/Halifax:20250722T180000
DTEND;TZID=America/Halifax:20250722T190000
DTSTAMP:20260419T162342
CREATED:20250512T153403Z
LAST-MODIFIED:20250512T153403Z
UID:2647-1753207200-1753210800@sharereuserepairhub.ca
SUMMARY:Oshawa: Teen – Upcycle for the Apocalypse
DESCRIPTION:Tuesday\, Jul 22 / 6-7 pm \nDelpark Branch \nUpcycling is the ultimate survival skill in a world where every resource counts! Turn everyday trash into creative treasures like survival tools\, accessories\, and art in this hands-on crafting session. \nAges 13-18 / Drop-in \nDetails: https://oshlib.bibliocommons.com/events/67f14b5ad41c64603165a17a
URL:https://sharereuserepairhub.ca/event-calendar/oshawa-teen-upcycle-for-the-apocalypse/
LOCATION:Ontario
CATEGORIES:Crafts,Durham Region
END:VEVENT
BEGIN:VEVENT
DTSTART;TZID=America/Halifax:20250715T180000
DTEND;TZID=America/Halifax:20250715T200000
DTSTAMP:20260419T162342
CREATED:20250702T145513Z
LAST-MODIFIED:20250702T150710Z
UID:2823-1752602400-1752609600@sharereuserepairhub.ca
SUMMARY:Brampton: Free Beginner Sewing Classes July 15
DESCRIPTION:Learn Sewing Machine Basics to make reusable period pads with Help A Girl Out. \n\n\n\n\n\n\nIn this workshop presented by Help A Girl Out\, you’ll learn sewing machine basics to make reusable period pads and how reusable menstrual products help end period poverty and help the environment. All materials will be provided. Registration required. \nPlease note: All participants must complete a makerspace waiver before the start of the program. \nHAGO is an anti-poverty organization based in Brampton Ontario\, that aims to eliminate period poverty in Canada and developing countries. They have distributed hundreds of thousands of menstrual products since 2018. They serve individuals and centers across Canada\, the Caribbean\, and a few African countries. \nPeriod poverty is a worldwide health crisis that affects mental health\, reproductive health\, self-esteem\, and confidence. Reusable pads not only reduce waste to landfills but also ensure that individuals have consistent access to period products for years at a time\, eliminating period poverty sustainably. \nClick here for details.
URL:https://sharereuserepairhub.ca/event-calendar/brampton-free-beginner-sewing-classes/
LOCATION:Claireville: Brampton Library\, 8750 The Gore Road\, Brampton\, Ontario\, L6P 4P9\, Canada
CATEGORIES:Crafts
ATTACH;FMTTYPE=image/png:https://sharereuserepairhub.ca/wp-content/uploads/2025/07/Sewing-Workshop.png
END:VEVENT
BEGIN:VEVENT
DTSTART;VALUE=DATE:20250712
DTEND;VALUE=DATE:20250713
DTSTAMP:20260419T162342
CREATED:20250623T182151Z
LAST-MODIFIED:20250623T182214Z
UID:2818-1752278400-1752364799@sharereuserepairhub.ca
SUMMARY:Richmond Hill: EcoStitch Studio: T-Shirts (For Adults)
DESCRIPTION:About this event\nThis program is for adults (teens welcome) \nStarts on Sat\, Jul 12\, 2025 1:00 PM EDT \nJoin Lily’s Tiny Eco for a hands-on workshop where you’ll learn hand-sewing techniques to upcycle old tees and reduce textile waste. \n**Please bring two clean t-shirts to transform—extras will be available if needed. No sewing experience required! \nCost: $15 \nProgram location: Oak Ridges Branch \nIf this fee creates a barrier for participation please contact programming@rhpl.ca \nFor more information about this event and to register\, visit eventbrite.ca here.
URL:https://sharereuserepairhub.ca/event-calendar/richmond-hill-ecostitch-studio/
LOCATION:Richmond Hill Public Library\, 1 Atkinson Street\, Richmond Hill\, Ontario\, L4C 0H5\, Canada
CATEGORIES:Crafts,York Region
END:VEVENT
BEGIN:VEVENT
DTSTART;TZID=America/Halifax:20250709T183000
DTEND;TZID=America/Halifax:20250709T200000
DTSTAMP:20260419T162342
CREATED:20250623T151835Z
LAST-MODIFIED:20250623T151835Z
UID:2802-1752085800-1752091200@sharereuserepairhub.ca
SUMMARY:Vaughan: Unwind & Design
DESCRIPTION:Join us for an evening of relaxation\, de-stressing\, and connection through themed creative sessions\, where you’ll design personalized keepsakes using simple materials and upcycling techniques\, all while participating in mindfulness exercises and connecting with fellow attendees! \nDate and Time:\nWednesday\, July 9\, 2025 – 6:30 PM – 8:00 PM\nTheme: TBA\nRegistration Fee: Free\nLocation: Pierre Berton Resource Library \nAudience: Recommended for Adults\n*Disclaimer: This workshop is intended for adults\, as the techniques and materials used are designed for adult learners. \nFind more information and register here at Eventbrite.ca.
URL:https://sharereuserepairhub.ca/event-calendar/vaughan-unwind-design/
LOCATION:Pierre Berton Resource Library\, 4921 Rutherford Road\, Vaughan\, ON\, L4L 1A6\, Canada
CATEGORIES:Crafts,York Region
ATTACH;FMTTYPE=image/png:https://sharereuserepairhub.ca/wp-content/uploads/2025/06/Unwind-and-Design-Event.png
END:VEVENT
BEGIN:VEVENT
DTSTART;TZID=America/Halifax:20250708T123000
DTEND;TZID=America/Halifax:20250708T173000
DTSTAMP:20260419T162342
CREATED:20250702T151305Z
LAST-MODIFIED:20250702T151305Z
UID:2846-1751977800-1751995800@sharereuserepairhub.ca
SUMMARY:Mississauga: Free Beginner Sewing Classes July 8
DESCRIPTION:Discover the fundamentals of sewing as you craft reusable menstrual pads\, tackling period poverty and promoting sustainability.🩸🩸 \nLearn a skill \nMeet some friends\nEnd Period Poverty\nPromote Sustainability\n\nInstructor-led\, All materials will be provided\, 12 available spots \n\n📅 Date: Tuesday\, July 8\, 2025\, 12:30PM-5:30PM\n\n📍 Location:1225 Queensway East 35\, Mississauga\, ON L4Y 0G4\n\n\nClick here for additional details and to register.
URL:https://sharereuserepairhub.ca/event-calendar/mississauga-sewing-classes-july-8/
LOCATION:1225 Queensway East 35\, 1225 Queensway East 35\, Mississauga\, Ontario\, L4Y 0G4\, Canada
CATEGORIES:Crafts
ATTACH;FMTTYPE=image/png:https://sharereuserepairhub.ca/wp-content/uploads/2025/07/Sewing-Workshop.png
END:VEVENT
END:VCALENDAR