BEGIN:VCALENDAR
VERSION:2.0
PRODID:-//Share, Reuse, Repair Hub - ECPv6.15.20//NONSGML v1.0//EN
CALSCALE:GREGORIAN
METHOD:PUBLISH
X-WR-CALNAME:Share, Reuse, Repair Hub
X-ORIGINAL-URL:https://sharereuserepairhub.ca
X-WR-CALDESC:Events for Share, Reuse, Repair Hub
REFRESH-INTERVAL;VALUE=DURATION:PT1H
X-Robots-Tag:noindex
X-PUBLISHED-TTL:PT1H
BEGIN:VTIMEZONE
TZID:America/Halifax
BEGIN:DAYLIGHT
TZOFFSETFROM:-0400
TZOFFSETTO:-0300
TZNAME:ADT
DTSTART:20240310T060000
END:DAYLIGHT
BEGIN:STANDARD
TZOFFSETFROM:-0300
TZOFFSETTO:-0400
TZNAME:AST
DTSTART:20241103T050000
END:STANDARD
BEGIN:DAYLIGHT
TZOFFSETFROM:-0400
TZOFFSETTO:-0300
TZNAME:ADT
DTSTART:20250309T060000
END:DAYLIGHT
BEGIN:STANDARD
TZOFFSETFROM:-0300
TZOFFSETTO:-0400
TZNAME:AST
DTSTART:20251102T050000
END:STANDARD
BEGIN:DAYLIGHT
TZOFFSETFROM:-0400
TZOFFSETTO:-0300
TZNAME:ADT
DTSTART:20260308T060000
END:DAYLIGHT
BEGIN:STANDARD
TZOFFSETFROM:-0300
TZOFFSETTO:-0400
TZNAME:AST
DTSTART:20261101T050000
END:STANDARD
END:VTIMEZONE
BEGIN:VEVENT
DTSTART;VALUE=DATE:20250913
DTEND;VALUE=DATE:20250915
DTSTAMP:20260420T100846
CREATED:20250512T144008Z
LAST-MODIFIED:20250512T152216Z
UID:2628-1757721600-1757894399@sharereuserepairhub.ca
SUMMARY:Richmond Hill: Community Book Sale
DESCRIPTION:Back by popular demand the “Are you going to BE {Book Event}” will be happening September 13 and 14. See the website for details. www.areyougoingtobe.ca Mark your calendars! \nThis is a huge community book sale. An estimated 10\,000 books were donated each of the 2 previous years!! \nStarting in May\, the organizers will be happy to receive any books or CDs that you would like to donate. \nYou may drop off your donations at Richmond Hill United Church between 10 am & 2 pm on the 2nd and 4th Thursdays\, until Aug. 29th. \nDetails: https://onrichmondhill.com/?q=articles/book-and-cd-donations-wanted
URL:https://sharereuserepairhub.ca/event-calendar/community-book-sale-richmond-hill/
CATEGORIES:Yard Sale,York Region
END:VEVENT
END:VCALENDAR