BEGIN:VCALENDAR
VERSION:2.0
PRODID:-//Share, Reuse, Repair Hub - ECPv6.15.20//NONSGML v1.0//EN
CALSCALE:GREGORIAN
METHOD:PUBLISH
X-WR-CALNAME:Share, Reuse, Repair Hub
X-ORIGINAL-URL:https://sharereuserepairhub.ca
X-WR-CALDESC:Events for Share, Reuse, Repair Hub
REFRESH-INTERVAL;VALUE=DURATION:PT1H
X-Robots-Tag:noindex
X-PUBLISHED-TTL:PT1H
BEGIN:VTIMEZONE
TZID:America/Halifax
BEGIN:DAYLIGHT
TZOFFSETFROM:-0400
TZOFFSETTO:-0300
TZNAME:ADT
DTSTART:20240310T060000
END:DAYLIGHT
BEGIN:STANDARD
TZOFFSETFROM:-0300
TZOFFSETTO:-0400
TZNAME:AST
DTSTART:20241103T050000
END:STANDARD
BEGIN:DAYLIGHT
TZOFFSETFROM:-0400
TZOFFSETTO:-0300
TZNAME:ADT
DTSTART:20250309T060000
END:DAYLIGHT
BEGIN:STANDARD
TZOFFSETFROM:-0300
TZOFFSETTO:-0400
TZNAME:AST
DTSTART:20251102T050000
END:STANDARD
BEGIN:DAYLIGHT
TZOFFSETFROM:-0400
TZOFFSETTO:-0300
TZNAME:ADT
DTSTART:20260308T060000
END:DAYLIGHT
BEGIN:STANDARD
TZOFFSETFROM:-0300
TZOFFSETTO:-0400
TZNAME:AST
DTSTART:20261101T050000
END:STANDARD
END:VTIMEZONE
BEGIN:VEVENT
DTSTART;TZID=America/Halifax:20250531T130000
DTEND;TZID=America/Halifax:20250531T160000
DTSTAMP:20260420T105036
CREATED:20250512T152935Z
LAST-MODIFIED:20250512T152935Z
UID:2645-1748696400-1748707200@sharereuserepairhub.ca
SUMMARY:Oshawa: Repair Café
DESCRIPTION:Saturday\, May 31\, 2025\n1:00 PM – 4:00 PM\nJohn Aker Northview Branch \nGive new life to your broken small appliances\, electronics\, jewelry\, clothing\, and more. Our skilled volunteers can show you how to make repairs to keep items out of landfill and save you money! \nDrop-in. \nIf you have a flair for repair\, please consider volunteering as a member of our Repair Café team. For more details\, call 905-579-6111\, ext. 5279. \nDetails: https://oshlib.bibliocommons.com/events/678a722a08738767c12558e9
URL:https://sharereuserepairhub.ca/event-calendar/oshawa-repair-cafe/
CATEGORIES:Durham Region,Repair Cafe,Volunteering
END:VEVENT
BEGIN:VEVENT
DTSTART;TZID=America/Halifax:20250524T100000
DTEND;TZID=America/Halifax:20250524T130000
DTSTAMP:20260420T105036
CREATED:20250512T151018Z
LAST-MODIFIED:20250512T151018Z
UID:2633-1748080800-1748091600@sharereuserepairhub.ca
SUMMARY:Mississauga: Tour De Carassauga
DESCRIPTION:Bring your family\, friends and neighbours on Saturday\, May 24th from 10am-1pm for a pre-season Community Ride with the Tour de Carassauga! Rides depart from the Frank McKechnie Community Centre and will take you on a loop in the surrounding community. After the ride you can enjoy shows\, food and beverages from a variety of cultures! The Carrasauga Festival of Cultures runs from May 24 & 25 and participants of this community ride get a Carassauga Passport (booklet) for free included with this ride. \nJoin and learn more: https://www.mississauga.ca/events-and-attractions/events-calendar/11752/
URL:https://sharereuserepairhub.ca/event-calendar/mississauga-tour-de-carassauga/
CATEGORIES:Cycling,Peel Region
END:VEVENT
BEGIN:VEVENT
DTSTART;VALUE=DATE:20250514
DTEND;VALUE=DATE:20250515
DTSTAMP:20260420T105036
CREATED:20250512T144404Z
LAST-MODIFIED:20250512T144502Z
UID:2631-1747180800-1747267199@sharereuserepairhub.ca
SUMMARY:Mississauga: Bike Mentorship Program
DESCRIPTION:In our Mentorship Program\, newcomer participants receive a free bike loan\, lock\, helmet\, accessories and safety training as well as a match with volunteer mentors who commute regularly by bike. Together\, mentors and newcomer participants organize and participate in a variety of group activities throughout the city. \nDeadline to sign up as either a volunteer Mentor or newcomer Mentee: Wednesday\, May 14th\, 2025 \nSign up as a volunteer Mentor (any resident who has a bike already and wishes to guide newcomers): http://bit.ly/MCmentor25 \nSign up as a newcomer Mentee (a newcomer who has a bike or needs to borrow one\, and has not joined our Mentorship Program before): http://bit.ly/MCmentee25
URL:https://sharereuserepairhub.ca/event-calendar/mississauga-bike-mentorship-program/
CATEGORIES:Cycling,Peel Region,Volunteering
END:VEVENT
END:VCALENDAR