BEGIN:VCALENDAR
VERSION:2.0
PRODID:-//Share, Reuse, Repair Hub - ECPv6.15.20//NONSGML v1.0//EN
CALSCALE:GREGORIAN
METHOD:PUBLISH
X-WR-CALNAME:Share, Reuse, Repair Hub
X-ORIGINAL-URL:https://sharereuserepairhub.ca
X-WR-CALDESC:Events for Share, Reuse, Repair Hub
REFRESH-INTERVAL;VALUE=DURATION:PT1H
X-Robots-Tag:noindex
X-PUBLISHED-TTL:PT1H
BEGIN:VTIMEZONE
TZID:UTC
BEGIN:STANDARD
TZOFFSETFROM:+0000
TZOFFSETTO:+0000
TZNAME:UTC
DTSTART:20240101T000000
END:STANDARD
END:VTIMEZONE
BEGIN:VEVENT
DTSTART;TZID=UTC:20251121T103000
DTEND;TZID=UTC:20251121T163000
DTSTAMP:20260420T073822
CREATED:20251120T164314Z
LAST-MODIFIED:20251120T164314Z
UID:3188-1763721000-1763742600@sharereuserepairhub.ca
SUMMARY:Free Bike Repairs + Events
DESCRIPTION:Free basic bike tune-ups until November 28! \nBring your bike during shop hours: \nTuesdays – Fridays from 10:30 – 1 & 2 – 4:30 p.m. \nGet your brakes\, gears\, and chain checked! \nRegister by emailing \nSheridanBikeHub@sheridancollege.ca \nspace is limited.
URL:https://sharereuserepairhub.ca/event-calendar/free-bike-repairs-events/
LOCATION:SHERIDAN COLLEGE\, 4180 Duke of York Blvd\, Mississauga\, Ontario\, L5B 3W3\, Canada
CATEGORIES:Peel Region,Repair
ATTACH;FMTTYPE=image/jpeg:https://sharereuserepairhub.ca/wp-content/uploads/2025/10/Sheridan-Bike-Hub.jpeg
END:VEVENT
END:VCALENDAR