BEGIN:VCALENDAR
VERSION:2.0
PRODID:-//Share, Reuse, Repair Hub - ECPv6.15.20//NONSGML v1.0//EN
CALSCALE:GREGORIAN
METHOD:PUBLISH
X-ORIGINAL-URL:https://sharereuserepairhub.ca
X-WR-CALDESC:Events for Share, Reuse, Repair Hub
REFRESH-INTERVAL;VALUE=DURATION:PT1H
X-Robots-Tag:noindex
X-PUBLISHED-TTL:PT1H
BEGIN:VTIMEZONE
TZID:America/Toronto
BEGIN:DAYLIGHT
TZOFFSETFROM:-0500
TZOFFSETTO:-0400
TZNAME:EDT
DTSTART:20250309T070000
END:DAYLIGHT
BEGIN:STANDARD
TZOFFSETFROM:-0400
TZOFFSETTO:-0500
TZNAME:EST
DTSTART:20251102T060000
END:STANDARD
BEGIN:DAYLIGHT
TZOFFSETFROM:-0500
TZOFFSETTO:-0400
TZNAME:EDT
DTSTART:20260308T070000
END:DAYLIGHT
BEGIN:STANDARD
TZOFFSETFROM:-0400
TZOFFSETTO:-0500
TZNAME:EST
DTSTART:20261101T060000
END:STANDARD
BEGIN:DAYLIGHT
TZOFFSETFROM:-0500
TZOFFSETTO:-0400
TZNAME:EDT
DTSTART:20270314T070000
END:DAYLIGHT
BEGIN:STANDARD
TZOFFSETFROM:-0400
TZOFFSETTO:-0500
TZNAME:EST
DTSTART:20271107T060000
END:STANDARD
END:VTIMEZONE
BEGIN:VEVENT
DTSTART;TZID=America/Toronto:20260325T130000
DTEND;TZID=America/Toronto:20260325T160000
DTSTAMP:20260419T175428
CREATED:20260323T125821Z
LAST-MODIFIED:20260323T125821Z
UID:3321-1774443600-1774454400@sharereuserepairhub.ca
SUMMARY:🛠️ Repair Café #36 SDG Month 2026 HMC Campus (Mississauga)
DESCRIPTION:Do you have a household item that’s broken?\nWe’ll show you how to fix it for free! \nRepair Café is a global movement that aims to reduce the volume of waste sent to landfills\, and to change society’s “throw-away” mindset. During Repair Café events\, anyone can come and get help fixing their broken items and most importantly\, learn from expert volunteer “fixers” about how to repair items themselves. \nWe will have fixers on-site for: \n\nBikes\nBooks\nClothing/Bags\nComputers\nElectronics\nSmall appliances\nSmall furniture\nToys\n\nPlease note we will also be partnering with Let’s Get Together to offer a Tech Collect Drive at this event. Please bring any unwanted computers or electronics to be refurbished (or safely recycled) and circulated back to youth in need in the community. Data erase services will be provided for all donated computers. \nWho can come and get help to fix broken items?\nANYONE can come and get help their broken items get fixed\, provided they have filled out the registration form below. \nWhere?\nSheridan’s HMC Campus\nB-wing- Creative Commons\n4180 Duke of York Blvd\, Mississauga\, ON L5B 0G5\n\nWhen?\nWednesday March 25\, 2026\n01:00 p.m. – 04:00 p.m. \nCost? \nFree \nIf you have any questions\, contact — missionzero@sheridancollege.ca
URL:https://sharereuserepairhub.ca/event-calendar/%f0%9f%9b%a0%ef%b8%8f-repair-cafe-36-sdg-month-2026-hmc-campus-mississauga/
LOCATION:Sheridan Bike Hub – HMC\, 4180 Duke of York Blvd.\, Mississauga\, Ontario\, L5B 0G5\, Canada
CATEGORIES:Cycling,Peel Region,Repair
ATTACH;FMTTYPE=image/png:https://sharereuserepairhub.ca/wp-content/uploads/2026/03/RepairCafeTechCollect.png
END:VEVENT
END:VCALENDAR