BEGIN:VCALENDAR
VERSION:2.0
PRODID:-//Share, Reuse, Repair Hub - ECPv6.15.20//NONSGML v1.0//EN
CALSCALE:GREGORIAN
METHOD:PUBLISH
X-WR-CALNAME:Share, Reuse, Repair Hub
X-ORIGINAL-URL:https://sharereuserepairhub.ca
X-WR-CALDESC:Events for Share, Reuse, Repair Hub
REFRESH-INTERVAL;VALUE=DURATION:PT1H
X-Robots-Tag:noindex
X-PUBLISHED-TTL:PT1H
BEGIN:VTIMEZONE
TZID:America/Toronto
BEGIN:DAYLIGHT
TZOFFSETFROM:-0500
TZOFFSETTO:-0400
TZNAME:EDT
DTSTART:20240310T070000
END:DAYLIGHT
BEGIN:STANDARD
TZOFFSETFROM:-0400
TZOFFSETTO:-0500
TZNAME:EST
DTSTART:20241103T060000
END:STANDARD
BEGIN:DAYLIGHT
TZOFFSETFROM:-0500
TZOFFSETTO:-0400
TZNAME:EDT
DTSTART:20250309T070000
END:DAYLIGHT
BEGIN:STANDARD
TZOFFSETFROM:-0400
TZOFFSETTO:-0500
TZNAME:EST
DTSTART:20251102T060000
END:STANDARD
BEGIN:DAYLIGHT
TZOFFSETFROM:-0500
TZOFFSETTO:-0400
TZNAME:EDT
DTSTART:20260308T070000
END:DAYLIGHT
BEGIN:STANDARD
TZOFFSETFROM:-0400
TZOFFSETTO:-0500
TZNAME:EST
DTSTART:20261101T060000
END:STANDARD
END:VTIMEZONE
BEGIN:VEVENT
DTSTART;TZID=America/Toronto:20250927T110000
DTEND;TZID=America/Toronto:20250927T130000
DTSTAMP:20260420T065509
CREATED:20250909T015456Z
LAST-MODIFIED:20250909T015456Z
UID:2952-1758970800-1758978000@sharereuserepairhub.ca
SUMMARY:Tech Donation Drive
DESCRIPTION:Help reduce e-waste and give your old tech a new purpose! Drop off electronics you no longer use at the library and support digital inclusion in our community. In partnership with Free Geek Toronto\, donated items will be refurbished or responsibly recycled. \nTo see what items are accepted and find out more\, visit Free Geek Toronto’s website.
URL:https://sharereuserepairhub.ca/event-calendar/tech-donation-drive/
LOCATION:Richmond Hill Public Library\, 1 Atkinson Street\, Richmond Hill\, Ontario\, L4C 0H5\, Canada
CATEGORIES:York Region
ATTACH;FMTTYPE=image/png:https://sharereuserepairhub.ca/wp-content/uploads/2025/09/ElectronicsandOldTechDonationDrive.png
END:VEVENT
END:VCALENDAR