BEGIN:VCALENDAR
VERSION:2.0
PRODID:-//Share, Reuse, Repair Hub - ECPv6.15.20//NONSGML v1.0//EN
CALSCALE:GREGORIAN
METHOD:PUBLISH
X-ORIGINAL-URL:https://sharereuserepairhub.ca
X-WR-CALDESC:Events for Share, Reuse, Repair Hub
REFRESH-INTERVAL;VALUE=DURATION:PT1H
X-Robots-Tag:noindex
X-PUBLISHED-TTL:PT1H
BEGIN:VTIMEZONE
TZID:America/Halifax
BEGIN:DAYLIGHT
TZOFFSETFROM:-0400
TZOFFSETTO:-0300
TZNAME:ADT
DTSTART:20240310T060000
END:DAYLIGHT
BEGIN:STANDARD
TZOFFSETFROM:-0300
TZOFFSETTO:-0400
TZNAME:AST
DTSTART:20241103T050000
END:STANDARD
BEGIN:DAYLIGHT
TZOFFSETFROM:-0400
TZOFFSETTO:-0300
TZNAME:ADT
DTSTART:20250309T060000
END:DAYLIGHT
BEGIN:STANDARD
TZOFFSETFROM:-0300
TZOFFSETTO:-0400
TZNAME:AST
DTSTART:20251102T050000
END:STANDARD
BEGIN:DAYLIGHT
TZOFFSETFROM:-0400
TZOFFSETTO:-0300
TZNAME:ADT
DTSTART:20260308T060000
END:DAYLIGHT
BEGIN:STANDARD
TZOFFSETFROM:-0300
TZOFFSETTO:-0400
TZNAME:AST
DTSTART:20261101T050000
END:STANDARD
END:VTIMEZONE
BEGIN:VEVENT
DTSTART;TZID=America/Halifax:20250816T130000
DTEND;TZID=America/Halifax:20250816T160000
DTSTAMP:20260420T085911
CREATED:20250512T153743Z
LAST-MODIFIED:20250512T153743Z
UID:2649-1755349200-1755360000@sharereuserepairhub.ca
SUMMARY:Oshawa - Kid/Family – Toy Repair Café
DESCRIPTION:Saturday\, Aug 16 / 1-4 pm \nDelpark Branch \nEvery toy has a story; we’re here to help your beloved items continue their adventures! Whether it’s a stuffed animal needing a stitch or a toy car that needs a little TLC\, our skilled repair team is ready to help you bring them back to life. \nDetails: https://oshlib.bibliocommons.com/events/67f15e552971a34a250ecce3
URL:https://sharereuserepairhub.ca/event-calendar/oshawa-kid-family-toy-repair-cafe/
LOCATION:Ontario
CATEGORIES:Durham Region,Repair
END:VEVENT
END:VCALENDAR