BEGIN:VCALENDAR
VERSION:2.0
PRODID:-//Share, Reuse, Repair Hub - ECPv6.15.20//NONSGML v1.0//EN
CALSCALE:GREGORIAN
METHOD:PUBLISH
X-ORIGINAL-URL:https://sharereuserepairhub.ca
X-WR-CALDESC:Events for Share, Reuse, Repair Hub
REFRESH-INTERVAL;VALUE=DURATION:PT1H
X-Robots-Tag:noindex
X-PUBLISHED-TTL:PT1H
BEGIN:VTIMEZONE
TZID:America/Halifax
BEGIN:DAYLIGHT
TZOFFSETFROM:-0400
TZOFFSETTO:-0300
TZNAME:ADT
DTSTART:20240310T060000
END:DAYLIGHT
BEGIN:STANDARD
TZOFFSETFROM:-0300
TZOFFSETTO:-0400
TZNAME:AST
DTSTART:20241103T050000
END:STANDARD
BEGIN:DAYLIGHT
TZOFFSETFROM:-0400
TZOFFSETTO:-0300
TZNAME:ADT
DTSTART:20250309T060000
END:DAYLIGHT
BEGIN:STANDARD
TZOFFSETFROM:-0300
TZOFFSETTO:-0400
TZNAME:AST
DTSTART:20251102T050000
END:STANDARD
BEGIN:DAYLIGHT
TZOFFSETFROM:-0400
TZOFFSETTO:-0300
TZNAME:ADT
DTSTART:20260308T060000
END:DAYLIGHT
BEGIN:STANDARD
TZOFFSETFROM:-0300
TZOFFSETTO:-0400
TZNAME:AST
DTSTART:20261101T050000
END:STANDARD
END:VTIMEZONE
BEGIN:VEVENT
DTSTART;TZID=America/Halifax:20250614T070000
DTEND;TZID=America/Halifax:20250614T190000
DTSTAMP:20260420T145335
CREATED:20250512T152756Z
LAST-MODIFIED:20250512T152756Z
UID:2643-1749884400-1749927600@sharereuserepairhub.ca
SUMMARY:Durham: Curbside Giveaway Days
DESCRIPTION:Curbside Giveaway Day events are organized in cooperation with the local municipalities\, where residents place unwanted items in good condition—clearly marked FREE—on their curb for anyone to pick up. At the end of the Giveaway Day\, residents return unclaimed items to their home. \nPlease ensure items whether new or used\, are safe and meet current regulatory requirements. It is important to only place items that are in good condition. The Region is not responsible for quality of items placed out for the Curbside Giveaway Day. \nSpring Event:\nSaturday\, June 14\, 2025\n7 a.m. to 7 p.m. \nFall Event:\nSaturday\, September 13\, 2025\n7 a.m. to 7 p.m. \nDetails: https://www.durham.ca/en/living-here/special-events-in-waste-management.aspx
URL:https://sharereuserepairhub.ca/event-calendar/durham-curbside-giveaway-days/
LOCATION:Ontario
CATEGORIES:Curbside Giveaway Day,Durham Region
END:VEVENT
END:VCALENDAR