BEGIN:VCALENDAR
VERSION:2.0
PRODID:-//Share, Reuse, Repair Hub - ECPv6.15.20//NONSGML v1.0//EN
CALSCALE:GREGORIAN
METHOD:PUBLISH
X-ORIGINAL-URL:https://sharereuserepairhub.ca
X-WR-CALDESC:Events for Share, Reuse, Repair Hub
REFRESH-INTERVAL;VALUE=DURATION:PT1H
X-Robots-Tag:noindex
X-PUBLISHED-TTL:PT1H
BEGIN:VTIMEZONE
TZID:America/Halifax
BEGIN:DAYLIGHT
TZOFFSETFROM:-0400
TZOFFSETTO:-0300
TZNAME:ADT
DTSTART:20240310T060000
END:DAYLIGHT
BEGIN:STANDARD
TZOFFSETFROM:-0300
TZOFFSETTO:-0400
TZNAME:AST
DTSTART:20241103T050000
END:STANDARD
BEGIN:DAYLIGHT
TZOFFSETFROM:-0400
TZOFFSETTO:-0300
TZNAME:ADT
DTSTART:20250309T060000
END:DAYLIGHT
BEGIN:STANDARD
TZOFFSETFROM:-0300
TZOFFSETTO:-0400
TZNAME:AST
DTSTART:20251102T050000
END:STANDARD
BEGIN:DAYLIGHT
TZOFFSETFROM:-0400
TZOFFSETTO:-0300
TZNAME:ADT
DTSTART:20260308T060000
END:DAYLIGHT
BEGIN:STANDARD
TZOFFSETFROM:-0300
TZOFFSETTO:-0400
TZNAME:AST
DTSTART:20261101T050000
END:STANDARD
END:VTIMEZONE
BEGIN:VEVENT
DTSTART;TZID=America/Halifax:20250615T080000
DTEND;TZID=America/Halifax:20250615T130000
DTSTAMP:20260420T145333
CREATED:20250527T183947Z
LAST-MODIFIED:20250527T183947Z
UID:2671-1749974400-1749992400@sharereuserepairhub.ca
SUMMARY:Markham Cycling Day
DESCRIPTION:Join us on Sunday June 15\, 2025 \nWe have a new location this year on Main Street Markham! \nMarkham Cycling Day is an annual cycling event hosted by City of Markham. The event is a great way to explore Markham on bicycles with your friends or families. We welcome riders of all ages and abilities to participate in this FREE event. Started in 2008\, and led by volunteers from the Cycling & Pedestrian Advisory Committee\, Markham Cycling Day continues to attract residents and cyclists from and around Markham. \nThe event offers free entertainment\, light refreshment and activities from various exhibitors. \nNEW LOCATION THIS YEAR – Near the Old Town Hall (96 Main Street Markham) at Robinson Street & Main Street Markham. \nTIME: 8:00 AM to 1:00 PM. Please check back for a detailed schedule. \nClick Here to Register via Markham.ca
URL:https://sharereuserepairhub.ca/event-calendar/markham-cycling-day/
LOCATION:Old Town Hall\, 96 Main Street\, Markham\, Ontario\, Canada
CATEGORIES:Cycling,York Region
ATTACH;FMTTYPE=image/webp:https://sharereuserepairhub.ca/wp-content/uploads/2025/05/Markham-Cycling-Day-2025-Portal-Circle.webp
END:VEVENT
END:VCALENDAR