BEGIN:VCALENDAR
VERSION:2.0
PRODID:-//Share, Reuse, Repair Hub - ECPv6.15.20//NONSGML v1.0//EN
CALSCALE:GREGORIAN
METHOD:PUBLISH
X-ORIGINAL-URL:https://sharereuserepairhub.ca
X-WR-CALDESC:Events for Share, Reuse, Repair Hub
REFRESH-INTERVAL;VALUE=DURATION:PT1H
X-Robots-Tag:noindex
X-PUBLISHED-TTL:PT1H
BEGIN:VTIMEZONE
TZID:America/Toronto
BEGIN:DAYLIGHT
TZOFFSETFROM:-0500
TZOFFSETTO:-0400
TZNAME:EDT
DTSTART:20240310T070000
END:DAYLIGHT
BEGIN:STANDARD
TZOFFSETFROM:-0400
TZOFFSETTO:-0500
TZNAME:EST
DTSTART:20241103T060000
END:STANDARD
BEGIN:DAYLIGHT
TZOFFSETFROM:-0500
TZOFFSETTO:-0400
TZNAME:EDT
DTSTART:20250309T070000
END:DAYLIGHT
BEGIN:STANDARD
TZOFFSETFROM:-0400
TZOFFSETTO:-0500
TZNAME:EST
DTSTART:20251102T060000
END:STANDARD
BEGIN:DAYLIGHT
TZOFFSETFROM:-0500
TZOFFSETTO:-0400
TZNAME:EDT
DTSTART:20260308T070000
END:DAYLIGHT
BEGIN:STANDARD
TZOFFSETFROM:-0400
TZOFFSETTO:-0500
TZNAME:EST
DTSTART:20261101T060000
END:STANDARD
END:VTIMEZONE
BEGIN:VEVENT
DTSTART;TZID=America/Toronto:20250906T100000
DTEND;TZID=America/Toronto:20250906T120000
DTSTAMP:20260420T085712
CREATED:20250903T140624Z
LAST-MODIFIED:20250903T142559Z
UID:2936-1757152800-1757160000@sharereuserepairhub.ca
SUMMARY:ReRooted: Plant Exchange
DESCRIPTION:Have a perennial to divide\, plant cuttings to share\, or a healthy houseplant looking for a new home? Bring your labelled plant and exchange it for another one! Plants with diseases\, pests or that are invasive/aggressive will not be accepted. Visit ontarioinvasiveplants.ca for more information on invasive plants. Presented by Lake Simcoe South Master Gardeners.
URL:https://sharereuserepairhub.ca/event-calendar/rerooted-plant-exchange/
LOCATION:Richmond Hill Public Library – Richvale Branch\, 40 Pearson Avenue\, Richmond Hill\, Ontario\, L4C 6T7\, Canada
CATEGORIES:Swap,York Region
ATTACH;FMTTYPE=image/png:https://sharereuserepairhub.ca/wp-content/uploads/2025/09/ReRootedPlantExchange.png
END:VEVENT
END:VCALENDAR