BEGIN:VCALENDAR
VERSION:2.0
PRODID:-//Share, Reuse, Repair Hub - ECPv6.15.20//NONSGML v1.0//EN
CALSCALE:GREGORIAN
METHOD:PUBLISH
X-WR-CALNAME:Share, Reuse, Repair Hub
X-ORIGINAL-URL:https://sharereuserepairhub.ca
X-WR-CALDESC:Events for Share, Reuse, Repair Hub
REFRESH-INTERVAL;VALUE=DURATION:PT1H
X-Robots-Tag:noindex
X-PUBLISHED-TTL:PT1H
BEGIN:VTIMEZONE
TZID:UTC
BEGIN:STANDARD
TZOFFSETFROM:+0000
TZOFFSETTO:+0000
TZNAME:UTC
DTSTART:20240101T000000
END:STANDARD
END:VTIMEZONE
BEGIN:VEVENT
DTSTART;TZID=UTC:20251112T180000
DTEND;TZID=UTC:20251112T200000
DTSTAMP:20260419T204338
CREATED:20251030T175929Z
LAST-MODIFIED:20251113T201236Z
UID:3149-1762970400-1762977600@sharereuserepairhub.ca
SUMMARY:DROP-IN SEWING SOCIAL (Stouffville)
DESCRIPTION:Connect with fellow sewing enthusiasts of all skill levels! Share tips\, tricks\, and inspiration while working on your own projects. Ages 16+ \nMonthly drop-ins available on Oct 8\, Nov 12\, and Dec 10.
URL:https://sharereuserepairhub.ca/event-calendar/drop-in-sewing-social-ages-16/
LOCATION:Stouffville Library – Makerspace\, 2 Park Drive\, Whitchurch-Stouffville\, Ontario\, L4A 4K1\, Canada
CATEGORIES:Repair,York Region
ATTACH;FMTTYPE=image/png:https://sharereuserepairhub.ca/wp-content/uploads/2025/10/18.png
END:VEVENT
BEGIN:VEVENT
DTSTART;TZID=UTC:20251118T180000
DTEND;TZID=UTC:20251118T200000
DTSTAMP:20260419T204338
CREATED:20250918T172824Z
LAST-MODIFIED:20251113T203358Z
UID:3046-1763488800-1763496000@sharereuserepairhub.ca
SUMMARY:Culture Days: Learn to Sew Reusable Bowl Covers (Caledon)
DESCRIPTION:Join us and learn to sew your very own reusable bowl cover! This is a beginner project where you will learn to sew on a curve and make use of elastic in your sewing projects\, as well as general sewing machine basics. \nMaterials to create 1 bowl cover will be provided. \nRegistration is required.
URL:https://sharereuserepairhub.ca/event-calendar/culture-days-learn-to-sew-reusable-bowl-covers-3/
LOCATION:Caledon Public Library Albion Bolton Branch\, 150 Queens Street South\, Caledon\, Ontario\, Canada
CATEGORIES:Crafts,Peel Region
ATTACH;FMTTYPE=image/png:https://sharereuserepairhub.ca/wp-content/uploads/2025/07/Peel-Region-Stacked.png
END:VEVENT
BEGIN:VEVENT
DTSTART;TZID=UTC:20251127T130000
DTEND;TZID=UTC:20251127T150000
DTSTAMP:20260419T204338
CREATED:20250918T172910Z
LAST-MODIFIED:20251113T204855Z
UID:3048-1764248400-1764255600@sharereuserepairhub.ca
SUMMARY:Culture Days: Learn to Sew Reusable Bowl Covers (Caledon)
DESCRIPTION:Join us and learn to sew your very own reusable bowl cover! This is a beginner project where you will learn to sew on a curve and make use of elastic in your sewing projects\, as well as general sewing machine basics. \nMaterials to create 1 bowl cover will be provided. \nRegistration is required.
URL:https://sharereuserepairhub.ca/event-calendar/culture-days-learn-to-sew-reusable-bowl-covers-4/
LOCATION:Caledon Public Library Albion Bolton Branch\, 150 Queens Street South\, Caledon\, Ontario\, Canada
CATEGORIES:Crafts,Peel Region
ATTACH;FMTTYPE=image/png:https://sharereuserepairhub.ca/wp-content/uploads/2025/07/Peel-Region-Stacked.png
END:VEVENT
END:VCALENDAR