BEGIN:VCALENDAR
VERSION:2.0
PRODID:-//Share, Reuse, Repair Hub - ECPv6.15.20//NONSGML v1.0//EN
CALSCALE:GREGORIAN
METHOD:PUBLISH
X-WR-CALNAME:Share, Reuse, Repair Hub
X-ORIGINAL-URL:https://sharereuserepairhub.ca
X-WR-CALDESC:Events for Share, Reuse, Repair Hub
REFRESH-INTERVAL;VALUE=DURATION:PT1H
X-Robots-Tag:noindex
X-PUBLISHED-TTL:PT1H
BEGIN:VTIMEZONE
TZID:America/Toronto
BEGIN:DAYLIGHT
TZOFFSETFROM:-0500
TZOFFSETTO:-0400
TZNAME:EDT
DTSTART:20240310T070000
END:DAYLIGHT
BEGIN:STANDARD
TZOFFSETFROM:-0400
TZOFFSETTO:-0500
TZNAME:EST
DTSTART:20241103T060000
END:STANDARD
BEGIN:DAYLIGHT
TZOFFSETFROM:-0500
TZOFFSETTO:-0400
TZNAME:EDT
DTSTART:20250309T070000
END:DAYLIGHT
BEGIN:STANDARD
TZOFFSETFROM:-0400
TZOFFSETTO:-0500
TZNAME:EST
DTSTART:20251102T060000
END:STANDARD
BEGIN:DAYLIGHT
TZOFFSETFROM:-0500
TZOFFSETTO:-0400
TZNAME:EDT
DTSTART:20260308T070000
END:DAYLIGHT
BEGIN:STANDARD
TZOFFSETFROM:-0400
TZOFFSETTO:-0500
TZNAME:EST
DTSTART:20261101T060000
END:STANDARD
END:VTIMEZONE
BEGIN:VEVENT
DTSTART;TZID=America/Toronto:20251219T160000
DTEND;TZID=America/Toronto:20251219T170000
DTSTAMP:20260419T233905
CREATED:20250918T164418Z
LAST-MODIFIED:20251202T202141Z
UID:3010-1766160000-1766163600@sharereuserepairhub.ca
SUMMARY:Kids Sewing Series (Aurora)
DESCRIPTION:Kids will learn techniques and some simple sewing patterns once a month\, perfect for individuals who are crafty and looking to work with a new medium. Recommend for 8+\, all materials included.
URL:https://sharereuserepairhub.ca/event-calendar/kids-sewing-series/
LOCATION:Aurora Public Library\, 15145 Yonge Street\, Aurora\, Ontario\, L4G 1M1\, Canada
CATEGORIES:Skills workshop,York Region
ATTACH;FMTTYPE=image/png:https://sharereuserepairhub.ca/wp-content/uploads/2025/09/Handcraft890x445px.png
END:VEVENT
END:VCALENDAR