BEGIN:VCALENDAR
VERSION:2.0
PRODID:-//Share, Reuse, Repair Hub - ECPv6.15.20//NONSGML v1.0//EN
CALSCALE:GREGORIAN
METHOD:PUBLISH
X-ORIGINAL-URL:https://sharereuserepairhub.ca
X-WR-CALDESC:Events for Share, Reuse, Repair Hub
REFRESH-INTERVAL;VALUE=DURATION:PT1H
X-Robots-Tag:noindex
X-PUBLISHED-TTL:PT1H
BEGIN:VTIMEZONE
TZID:Asia/Dubai
BEGIN:STANDARD
TZOFFSETFROM:+0400
TZOFFSETTO:+0400
TZNAME:+04
DTSTART:20240101T000000
END:STANDARD
END:VTIMEZONE
BEGIN:VTIMEZONE
TZID:UTC
BEGIN:STANDARD
TZOFFSETFROM:+0000
TZOFFSETTO:+0000
TZNAME:UTC
DTSTART:20240101T000000
END:STANDARD
END:VTIMEZONE
BEGIN:VEVENT
DTSTART;TZID=Asia/Dubai:20250920T100000
DTEND;TZID=Asia/Dubai:20250920T113000
DTSTAMP:20260420T085959
CREATED:20250918T152537Z
LAST-MODIFIED:20250918T152537Z
UID:2980-1758362400-1758367800@sharereuserepairhub.ca
SUMMARY:Welcome to Markham Public Library: A Tour for Newcomers
DESCRIPTION:Are you new to Canada or Markham? Are you curious about what the library has to offer? Join us on an exciting tour! Explore our collections\, learn how to borrow materials\, discover cutting-edge technology\, and participate in engaging programs—all for free. \nPlus\, you will get your own library card! Just bring your ID and proof of address. \nThis tour is open to everyone\, but it’s especially beneficial for newcomers to Markham or Canada. We’ll focus on resources that can assist newcomers\, refugees\, and those supporting them. \nThis tour will start in the program room at Thornhill Community Library. Drop-ins are welcome!
URL:https://sharereuserepairhub.ca/event-calendar/welcome-to-markham-public-library-a-tour-for-newcomers/
LOCATION:Thornhill Comm. Ctr. Branch\, 7755 Bayview Avenue\, Thornhill\, Ontario\, L3T 4P1
CATEGORIES:York Region
ATTACH;FMTTYPE=image/png:https://sharereuserepairhub.ca/wp-content/uploads/2025/09/22.png
END:VEVENT
BEGIN:VEVENT
DTSTART;TZID=UTC:20250920T120000
DTEND;TZID=UTC:20250920T160000
DTSTAMP:20260420T085959
CREATED:20250918T165510Z
LAST-MODIFIED:20250918T165510Z
UID:3017-1758369600-1758384000@sharereuserepairhub.ca
SUMMARY:Meet the Magic Yarn
DESCRIPTION:Help make princess and pirate wigs that are donated to children with hair loss. Cut yarn for hair and attach to beanies. Plus\, learn about the impact you can make in the lives of children through the GTA Magic Yarn Team. \nVisit our Culture Days webpage for the latest news and information about the event.
URL:https://sharereuserepairhub.ca/event-calendar/meet-the-magic-yarn/
LOCATION:Richmond Hill Public Library – Central Branch\, 1 Atkinson Street\, Richmond Hill\, Ontario\, L4C 0H5\, Canada
CATEGORIES:Crafts,Volunteering,York Region
ATTACH;FMTTYPE=image/png:https://sharereuserepairhub.ca/wp-content/uploads/2025/09/CultureDaysBanner.png
END:VEVENT
BEGIN:VEVENT
DTSTART;TZID=UTC:20250920T140000
DTEND;TZID=UTC:20250920T150000
DTSTAMP:20260420T085959
CREATED:20250918T153428Z
LAST-MODIFIED:20250918T153655Z
UID:2985-1758376800-1758380400@sharereuserepairhub.ca
SUMMARY:Newcomer Tour: Welcome to the Library
DESCRIPTION:In partnership with the Newmarket Welcome Centre\, Newmarket Library is excited to share a Welcome to the Library Newcomer Tour! This free\, drop-in tour will showcase the amazing opportunities and resources that exist at the Library\, including multilingual resources. Food will be provided. \nSaturday Tour will have a Mandarin and Cantonese translator.
URL:https://sharereuserepairhub.ca/event-calendar/newcomer-tour-welcome-to-the-library/
LOCATION:Newmarket Library\, 438 Park Ave\, Newmarket\, Ontario\, L3Y 1W1\, Canada
CATEGORIES:York Region
ATTACH;FMTTYPE=image/webp:https://sharereuserepairhub.ca/wp-content/uploads/2025/09/culturedays-ig-posts.webp
END:VEVENT
BEGIN:VEVENT
DTSTART;TZID=UTC:20250921T130000
DTEND;TZID=UTC:20250921T150000
DTSTAMP:20260420T085959
CREATED:20250918T155045Z
LAST-MODIFIED:20250918T155045Z
UID:2992-1758459600-1758466800@sharereuserepairhub.ca
SUMMARY:Craft Supply Swap
DESCRIPTION:Looking to refresh your craft supplies? Or maybe you have extra materials you no longer need? Here’s your chance to donate your unused craft supplies so someone else can be inspired to create with them! \nUnused donations will be accepted at the Newmarket Library from Tuesday\, October 28 until Friday\, October 31 during open hours. \nDonators will receive an early bird ticket for access to the craft supply meet starting at 12:30 p.m. Everything is free\, but there is a limit of 5 craft supply items per person during the swap. Note: this limit is subject to change based on the number of donations the library receives. \nDrop-in\, no registration required.
URL:https://sharereuserepairhub.ca/event-calendar/craft-supply-swap/
LOCATION:Newmarket Public Library\, 438 Park Ave\, Newmarket\, Ontario\, L3Y 1W1\, Canada
CATEGORIES:Crafts,Swap,York Region
ATTACH;FMTTYPE=image/png:https://sharereuserepairhub.ca/wp-content/uploads/2025/09/Screenshot-2025-09-18-at-11.48.44-AM.png
END:VEVENT
BEGIN:VEVENT
DTSTART;TZID=UTC:20250921T140000
DTEND;TZID=UTC:20250921T150000
DTSTAMP:20260420T085959
CREATED:20250918T153632Z
LAST-MODIFIED:20250918T153632Z
UID:2990-1758463200-1758466800@sharereuserepairhub.ca
SUMMARY:Newcomer Tour: Welcome to the Library
DESCRIPTION:In partnership with the Newmarket Welcome Centre\, Newmarket Library is excited to share a Welcome to the Library Newcomer Tour! This free\, drop-in tour will showcase the amazing opportunities and resources that exist at the Library\, including multilingual resources. Food will be provided. \n 
URL:https://sharereuserepairhub.ca/event-calendar/newcomer-tour-welcome-to-the-library-2/
LOCATION:Newmarket Library\, 438 Park Ave\, Newmarket\, Ontario\, L3Y 1W1\, Canada
CATEGORIES:York Region
ATTACH;FMTTYPE=image/webp:https://sharereuserepairhub.ca/wp-content/uploads/2025/09/culturedays-ig-posts.webp
END:VEVENT
BEGIN:VEVENT
DTSTART;TZID=UTC:20250925T183000
DTEND;TZID=UTC:20250925T200000
DTSTAMP:20260420T085959
CREATED:20250918T180406Z
LAST-MODIFIED:20250918T180406Z
UID:3071-1758825000-1758830400@sharereuserepairhub.ca
SUMMARY:Unwind & Design
DESCRIPTION:Ignite creativity\, embrace sustainability\, and unwind! Engage in creative activities\, express yourself through personalized designs\, and enjoy mindful exercises that promote relaxation. Register on Eventbrite.
URL:https://sharereuserepairhub.ca/event-calendar/unwind-design-3/
LOCATION:VMC Library\, 200 Apple Mill Rd\, Vaughan\, Ontario\, L4K 0J8\, Canada
CATEGORIES:York Region
ATTACH;FMTTYPE=image/jpeg:https://sharereuserepairhub.ca/wp-content/uploads/2024/11/AdobeStock_206236152-scaled.jpeg
END:VEVENT
BEGIN:VEVENT
DTSTART;TZID=UTC:20250927T143000
DTEND;TZID=UTC:20250927T163000
DTSTAMP:20260420T085959
CREATED:20250918T163559Z
LAST-MODIFIED:20250918T163643Z
UID:3004-1758983400-1758990600@sharereuserepairhub.ca
SUMMARY:Recycled Crafts
DESCRIPTION:Drop in and learn how to turn trash into treasure. Use our collection of recycled material or bring your own.
URL:https://sharereuserepairhub.ca/event-calendar/recycled-crafts/
LOCATION:Aurora Public Library\, 15145 Yonge Street\, Aurora\, Ontario\, L4G 1M1\, Canada
CATEGORIES:Crafts,Cycling,York Region
ATTACH;FMTTYPE=image/jpeg:https://sharereuserepairhub.ca/wp-content/uploads/2025/09/JocelynNEWEventImagesWide22.jpg
END:VEVENT
END:VCALENDAR