BEGIN:VCALENDAR
VERSION:2.0
PRODID:-//Share, Reuse, Repair Hub - ECPv6.15.20//NONSGML v1.0//EN
CALSCALE:GREGORIAN
METHOD:PUBLISH
X-WR-CALNAME:Share, Reuse, Repair Hub
X-ORIGINAL-URL:https://sharereuserepairhub.ca
X-WR-CALDESC:Events for Share, Reuse, Repair Hub
REFRESH-INTERVAL;VALUE=DURATION:PT1H
X-Robots-Tag:noindex
X-PUBLISHED-TTL:PT1H
BEGIN:VTIMEZONE
TZID:America/Halifax
BEGIN:DAYLIGHT
TZOFFSETFROM:-0400
TZOFFSETTO:-0300
TZNAME:ADT
DTSTART:20240310T060000
END:DAYLIGHT
BEGIN:STANDARD
TZOFFSETFROM:-0300
TZOFFSETTO:-0400
TZNAME:AST
DTSTART:20241103T050000
END:STANDARD
BEGIN:DAYLIGHT
TZOFFSETFROM:-0400
TZOFFSETTO:-0300
TZNAME:ADT
DTSTART:20250309T060000
END:DAYLIGHT
BEGIN:STANDARD
TZOFFSETFROM:-0300
TZOFFSETTO:-0400
TZNAME:AST
DTSTART:20251102T050000
END:STANDARD
BEGIN:DAYLIGHT
TZOFFSETFROM:-0400
TZOFFSETTO:-0300
TZNAME:ADT
DTSTART:20260308T060000
END:DAYLIGHT
BEGIN:STANDARD
TZOFFSETFROM:-0300
TZOFFSETTO:-0400
TZNAME:AST
DTSTART:20261101T050000
END:STANDARD
END:VTIMEZONE
BEGIN:VEVENT
DTSTART;TZID=America/Halifax:20250709T183000
DTEND;TZID=America/Halifax:20250709T200000
DTSTAMP:20260420T132550
CREATED:20250623T151835Z
LAST-MODIFIED:20250623T151835Z
UID:2802-1752085800-1752091200@sharereuserepairhub.ca
SUMMARY:Vaughan: Unwind & Design
DESCRIPTION:Join us for an evening of relaxation\, de-stressing\, and connection through themed creative sessions\, where you’ll design personalized keepsakes using simple materials and upcycling techniques\, all while participating in mindfulness exercises and connecting with fellow attendees! \nDate and Time:\nWednesday\, July 9\, 2025 – 6:30 PM – 8:00 PM\nTheme: TBA\nRegistration Fee: Free\nLocation: Pierre Berton Resource Library \nAudience: Recommended for Adults\n*Disclaimer: This workshop is intended for adults\, as the techniques and materials used are designed for adult learners. \nFind more information and register here at Eventbrite.ca.
URL:https://sharereuserepairhub.ca/event-calendar/vaughan-unwind-design/
LOCATION:Pierre Berton Resource Library\, 4921 Rutherford Road\, Vaughan\, ON\, L4L 1A6\, Canada
CATEGORIES:Crafts,York Region
ATTACH;FMTTYPE=image/png:https://sharereuserepairhub.ca/wp-content/uploads/2025/06/Unwind-and-Design-Event.png
END:VEVENT
END:VCALENDAR