BEGIN:VCALENDAR
VERSION:2.0
PRODID:-//Share, Reuse, Repair Hub - ECPv6.15.20//NONSGML v1.0//EN
CALSCALE:GREGORIAN
METHOD:PUBLISH
X-ORIGINAL-URL:https://sharereuserepairhub.ca
X-WR-CALDESC:Events for Share, Reuse, Repair Hub
REFRESH-INTERVAL;VALUE=DURATION:PT1H
X-Robots-Tag:noindex
X-PUBLISHED-TTL:PT1H
BEGIN:VTIMEZONE
TZID:UTC
BEGIN:STANDARD
TZOFFSETFROM:+0000
TZOFFSETTO:+0000
TZNAME:UTC
DTSTART:20240101T000000
END:STANDARD
END:VTIMEZONE
BEGIN:VEVENT
DTSTART;TZID=UTC:20251007T180000
DTEND;TZID=UTC:20251007T190000
DTSTAMP:20260420T054922
CREATED:20250918T165045Z
LAST-MODIFIED:20251007T172656Z
UID:3013-1759860000-1759863600@sharereuserepairhub.ca
SUMMARY:Cycling in All Weather with Markham Cycles
DESCRIPTION:Make all-season cycling a breeze with this workshop from Markham Cycles! \nTopics in this workshop include: choosing clothing and gear for wet and cold weather\, bicycle maintenance and storage tips\, winter route-planning\, and safe riding techniques for weather-related hazards.
URL:https://sharereuserepairhub.ca/event-calendar/cycling-in-all-weather-with-markham-cycles/
LOCATION:Markham Public Library\, 7600 Kennedy Road\, Markham\, Ontario\, L3R 9S5\, Canada
CATEGORIES:Cycling,Repair,York Region
ATTACH;FMTTYPE=image/png:https://sharereuserepairhub.ca/wp-content/uploads/2025/09/All-Weather-2025-800x450-1.png
END:VEVENT
END:VCALENDAR