BEGIN:VCALENDAR
VERSION:2.0
PRODID:-//Share, Reuse, Repair Hub - ECPv6.15.20//NONSGML v1.0//EN
CALSCALE:GREGORIAN
METHOD:PUBLISH
X-WR-CALNAME:Share, Reuse, Repair Hub
X-ORIGINAL-URL:https://sharereuserepairhub.ca
X-WR-CALDESC:Events for Share, Reuse, Repair Hub
REFRESH-INTERVAL;VALUE=DURATION:PT1H
X-Robots-Tag:noindex
X-PUBLISHED-TTL:PT1H
BEGIN:VTIMEZONE
TZID:UTC
BEGIN:STANDARD
TZOFFSETFROM:+0000
TZOFFSETTO:+0000
TZNAME:UTC
DTSTART:20240101T000000
END:STANDARD
END:VTIMEZONE
BEGIN:VEVENT
DTSTART;TZID=UTC:20251113T183000
DTEND;TZID=UTC:20251113T200000
DTSTAMP:20260420T041435
CREATED:20250918T180613Z
LAST-MODIFIED:20251113T203109Z
UID:3076-1763058600-1763064000@sharereuserepairhub.ca
SUMMARY:Unwind & Design (Vaughan)
DESCRIPTION:Ignite creativity\, embrace sustainability\, and unwind! Engage in creative activities\, express yourself through personalized designs\, and enjoy mindful exercises that promote relaxation. Register on Eventbrite.
URL:https://sharereuserepairhub.ca/event-calendar/unwind-design-5/
LOCATION:VMC Library\, 200 Apple Mill Rd\, Vaughan\, Ontario\, L4K 0J8\, Canada
CATEGORIES:York Region
ATTACH;FMTTYPE=image/jpeg:https://sharereuserepairhub.ca/wp-content/uploads/2024/11/AdobeStock_206236152-scaled.jpeg
END:VEVENT
END:VCALENDAR