BEGIN:VCALENDAR
VERSION:2.0
PRODID:-//Share, Reuse, Repair Hub - ECPv6.15.20//NONSGML v1.0//EN
CALSCALE:GREGORIAN
METHOD:PUBLISH
X-ORIGINAL-URL:https://sharereuserepairhub.ca
X-WR-CALDESC:Events for Share, Reuse, Repair Hub
REFRESH-INTERVAL;VALUE=DURATION:PT1H
X-Robots-Tag:noindex
X-PUBLISHED-TTL:PT1H
BEGIN:VTIMEZONE
TZID:UTC
BEGIN:STANDARD
TZOFFSETFROM:+0000
TZOFFSETTO:+0000
TZNAME:UTC
DTSTART:20240101T000000
END:STANDARD
END:VTIMEZONE
BEGIN:VEVENT
DTSTART;TZID=UTC:20251115T103000
DTEND;TZID=UTC:20251115T130000
DTSTAMP:20260420T042847
CREATED:20251030T180414Z
LAST-MODIFIED:20251113T203210Z
UID:3154-1763202600-1763211600@sharereuserepairhub.ca
SUMMARY:APL Hobby Swap (Aurora)
DESCRIPTION:Description\n\nDo you have old puzzles or board games that you haven’t enjoyed in a long time? How about old art and craft supplies for the cozy hobby you never had the chance to start? Why not bring it to our cozy hobby swap? Drop off items that are in excellent condition\, and feel free to trade for something new. \nHere is a list of items we accept: \n\nstationery and journaling supplies\nArt supplies (paint\, charcoal\, watercolour\, canvases\, clean brushes)\nKnitting and crochet supplies\nPuzzles (if opened\, please check the number of pieces)\nBoard games (check that it has all their parts)\nSewing supplies (thread\, needles\, old patterns\, fabric)
URL:https://sharereuserepairhub.ca/event-calendar/apl-hobby-swap/
LOCATION:Aurora Public Library\, 15145 Yonge Street\, Aurora\, Ontario\, L4G 1M1\, Canada
CATEGORIES:Swap,Waste reduction event,York Region
ATTACH;FMTTYPE=image/png:https://sharereuserepairhub.ca/wp-content/uploads/2025/10/BookSale.png
END:VEVENT
END:VCALENDAR