BEGIN:VCALENDAR
VERSION:2.0
PRODID:-//Share, Reuse, Repair Hub - ECPv6.15.20//NONSGML v1.0//EN
CALSCALE:GREGORIAN
METHOD:PUBLISH
X-ORIGINAL-URL:https://sharereuserepairhub.ca
X-WR-CALDESC:Events for Share, Reuse, Repair Hub
REFRESH-INTERVAL;VALUE=DURATION:PT1H
X-Robots-Tag:noindex
X-PUBLISHED-TTL:PT1H
BEGIN:VTIMEZONE
TZID:UTC
BEGIN:STANDARD
TZOFFSETFROM:+0000
TZOFFSETTO:+0000
TZNAME:UTC
DTSTART:20240101T000000
END:STANDARD
END:VTIMEZONE
BEGIN:VEVENT
DTSTART;TZID=UTC:20251211T183000
DTEND;TZID=UTC:20251211T200000
DTSTAMP:20260420T024105
CREATED:20250918T180659Z
LAST-MODIFIED:20251113T200947Z
UID:3078-1765477800-1765483200@sharereuserepairhub.ca
SUMMARY:Unwind & Design (Vaughan)
DESCRIPTION:Ignite creativity\, embrace sustainability\, and unwind! Engage in creative activities\, express yourself through personalized designs\, and enjoy mindful exercises that promote relaxation. Register on Eventbrite.
URL:https://sharereuserepairhub.ca/event-calendar/unwind-design-copy/
LOCATION:VMC Library\, 200 Apple Mill Rd\, Vaughan\, Ontario\, L4K 0J8\, Canada
CATEGORIES:York Region
ATTACH;FMTTYPE=image/jpeg:https://sharereuserepairhub.ca/wp-content/uploads/2024/11/AdobeStock_206236152-scaled.jpeg
END:VEVENT
END:VCALENDAR